Workbook
Name Slicer_Kategori_Utama: #N/A
Name Slicer_Tahun: #N/A

Sheet MASTER DATA
A1: Kategori Utama | D1: Sub Kategori | E1: Kategori Utama | F1: Tipe Transaksi | G1: Budget | I1: Nama Metode Pembayaran | J1: Metode Pembayaran | L1: Bulan | M1: Tahun | N1: Budget
A2: Kantor | D2: Gaji Bulanan | E2: Kantor | F2: Penghasilan | G2: 25000000 | I2: Cash | J2: Tunai | L2: Januari | M2: 2024 | N2: 50000000
A3: Bisnis | D3: Bonus | E3: Kantor | F3: Penghasilan | G3: 15000000 | I3: BCA | J3: Tunai | L3: Februari | M3: 2024 | N3: 50000000
A4: Transportasi | D4: Bisnis Retail | E4: Kantor | F4: Penghasilan | G4: 50000000 | I4: Mandiri | J4: Tunai | L4: Maret | M4: 2024 | N4: 50000000
A5: Makan | D5: Jualan Online | E5: Bisnis | F5: Penghasilan | G5: 10000000 | I5: BNI | J5: Tunai | L5: April | M5: 2024 | N5: 50000000
A6: Bill & Utilitas | D6: Gojek/Grab | E6: Transportasi | F6: Pengeluaran | G6: 1500000 | I6: BRI | J6: Tunai | L6: Mei | M6: 2024 | N6: 50000000
A7: Entertainment | D7: Bensin Motor | E7: Transportasi | F7: Pengeluaran | G7: 1000000 | L7: Juni | M7: 2024 | N7: 50000000
A8: Personal Care | D8: Bensin Mobil | E8: Personal Care | F8: Pengeluaran | L8: Juli | M8: 2024 | N8: 50000000
A9: Rumah | D9: E-toll | E9: Transportasi | F9: Pengeluaran | L9: Agustus | M9: 2024 | N9: 50000000
A10: Kado | D10: GoFood/GrabFood | E10: Makan | F10: Pengeluaran | L10: September | M10: 2024 | N10: 50000000
A11: Donasi | D11: Coffee Shop | E11: Makan | F11: Pengeluaran | L11: Oktober | M11: 2024 | N11: 50000000
A12: Self Development | D12: Snack / Warung | E12: Makan | F12: Pengeluaran | L12: November | M12: 2024 | N12: 50000000
A13: Anak | D13: Restoran & Makan di Luar | E13: Makan | F13: Pengeluaran | L13: Desember | M13: 2024 | N13: 50000000
A14: Hewan Peliharaan | D14: Pulsa HP | E14: Bill & Utilitas | F14: Pengeluaran
A15: Gym | D15: Listrik Rumah | E15: Bill & Utilitas | F15: Pengeluaran
A16: Motor & Mobil | D16: Internet | E16: Bill & Utilitas | F16: Pengeluaran
A17: Bank | D17: Jalan-jalan | E17: Entertainment | F17: Pengeluaran
D18: Tiket Konser | E18: Entertainment | F18: Pengeluaran
D19: Liburan | E19: Entertainment | F19: Pengeluaran
D20: Shopping | E20: Personal Care | F20: Pengeluaran
D21: Skincare | E21: Personal Care | F21: Pengeluaran
D22: Potong Rambut | E22: Personal Care | F22: Pengeluaran
D23: Belanja Bulanan | E23: Rumah | F23: Pengeluaran
D24: Gaji ART | E24: Rumah | F24: Pengeluaran
D25: Gaji Supir | E25: Rumah | F25: Pengeluaran
D26: Renovasi Rumah | E26: Rumah | F26: Pengeluaran
D27: Kado Ortu | E27: Kado | F27: Pengeluaran
D28: Kado Anak | E28: Kado | F28: Pengeluaran
D29: Kado Istri | E29: Kado | F29: Pengeluaran
... D54: Balancing Saldo (Plus) | E54: Bank | F54: Penghasilan

Sheet INPUT Transaksi
A1: Tanggal | B1: Bulan | C1: Tahun | D1: Deskripsi | E1: Nominal | F1: Sub Kategori | G1: Kategori Utama | H1: Tipe Transaksi | I1: Nama Metode Pembayaran
A2: 11 | B2: April | C2: 2024 | E2: 1192674 | F2: Buku | G2: =_xlfn.IFNA(VLOOKUP(F2,'MASTER DATA'!D:F,2,FALSE),"") -> Self Development | H2: =_xlfn.IFNA(VLOOKUP(F2,'MASTER DATA'!D:F,3,FALSE),"") -> Pengeluaran | I2: BRI
A3: 28 | B3: Oktober | C3: 2024 | E3: 154041 | F3: Saldo Tambah | G3: =_xlfn.IFNA(VLOOKUP(F3,'MASTER DATA'!D:F,2,FALSE),"") -> Bank | H3: =_xlfn.IFNA(VLOOKUP(F3,'MASTER DATA'!D:F,3,FALSE),"") -> Penghasilan | I3: BCA
A4: 28 | B4: Juni | C4: 2024 | E4: 333404 | F4: Saldo Tambah | G4: =_xlfn.IFNA(VLOOKUP(F4,'MASTER DATA'!D:F,2,FALSE),"") -> Bank | H4: =_xlfn.IFNA(VLOOKUP(F4,'MASTER DATA'!D:F,3,FALSE),"") -> Penghasilan | I4: BRI
A5: 10 | B5: Mei | C5: 2024 | E5: 1460712 | F5: Balancing Saldo (Minus) | G5: =_xlfn.IFNA(VLOOKUP(F5,'MASTER DATA'!D:F,2,FALSE),"") -> Bank | H5: =_xlfn.IFNA(VLOOKUP(F5,'MASTER DATA'!D:F,3,FALSE),"") -> Pengeluaran | I5: Cash
A6: 16 | B6: Agustus | C6: 2024 | E6: 83803 | F6: Supplement Anak | G6: =_xlfn.IFNA(VLOOKUP(F6,'MASTER DATA'!D:F,2,FALSE),"") -> Anak | H6: =_xlfn.IFNA(VLOOKUP(F6,'MASTER DATA'!D:F,3,FALSE),"") -> Pengeluaran | I6: BRI
A7: 1 | B7: Desember | C7: 2024 | E7: 32442 | F7: Dokter Hewan | G7: =_xlfn.IFNA(VLOOKUP(F7,'MASTER DATA'!D:F,2,FALSE),"") -> Hewan Peliharaan | H7: =_xlfn.IFNA(VLOOKUP(F7,'MASTER DATA'!D:F,3,FALSE),"") -> Pengeluaran | I7: BNI
A8: 25 | B8: November | C8: 2024 | E8: 784474 | F8: Supplement Anak | G8: =_xlfn.IFNA(VLOOKUP(F8,'MASTER DATA'!D:F,2,FALSE),"") -> Anak | H8: =_xlfn.IFNA(VLOOKUP(F8,'MASTER DATA'!D:F,3,FALSE),"") -> Pengeluaran | I8: Cash
A9: 30 | B9: Januari | C9: 2024 | E9: 1446451 | F9: GoFood/GrabFood | G9: =_xlfn.IFNA(VLOOKUP(F9,'MASTER DATA'!D:F,2,FALSE),"") -> Makan | H9: =_xlfn.IFNA(VLOOKUP(F9,'MASTER DATA'!D:F,3,FALSE),"") -> Pengeluaran | I9: Cash
A10: 12 | B10: Agustus | C10: 2024 | E10: 1320601 | F10: Tiket Konser | G10: =_xlfn.IFNA(VLOOKUP(F10,'MASTER DATA'!D:F,2,FALSE),"") -> Entertainment | H10: =_xlfn.IFNA(VLOOKUP(F10,'MASTER DATA'!D:F,3,FALSE),"") -> Pengeluaran | I10: Mandiri
A11: 14 | B11: Juli | C11: 2024 | E11: 2292293 | F11: Seminar | G11: =_xlfn.IFNA(VLOOKUP(F11,'MASTER DATA'!D:F,2,FALSE),"") -> Self Development | H11: =_xlfn.IFNA(VLOOKUP(F11,'MASTER DATA'!D:F,3,FALSE),"") -> Pengeluaran | I11: BRI
A12: 21 | B12: Februari | C12: 2024 | E12: 1259695 | F12: Seminar | G12: =_xlfn.IFNA(VLOOKUP(F12,'MASTER DATA'!D:F,2,FALSE),"") -> Self Development | H12: =_xlfn.IFNA(VLOOKUP(F12,'MASTER DATA'!D:F,3,FALSE),"") -> Pengeluaran | I12: BCA
A13: 25 | B13: Maret | C13: 2024 | E13: 767439 | F13: Buku | G13: =_xlfn.IFNA(VLOOKUP(F13,'MASTER DATA'!D:F,2,FALSE),"") -> Self Development | H13: =_xlfn.IFNA(VLOOKUP(F13,'MASTER DATA'!D:F,3,FALSE),"") -> Pengeluaran | I13: BRI
... A367: 28 | B367: April | C367: 2024 | E367: 677717 | F367: Aksesoris Motor/Mobil | G367: =_xlfn.IFNA(VLOOKUP(F367,'MASTER DATA'!D:F,2,FALSE),"") -> Motor & Mobil | H367: =_xlfn.IFNA(VLOOKUP(F367,'MASTER DATA'!D:F,3,FALSE),"") -> Pengeluaran | I367: BNI
G368: =_xlfn.IFNA(VLOOKUP(F368,'MASTER DATA'!D:F,2,FALSE),"") | H368: =_xlfn.IFNA(VLOOKUP(F368,'MASTER DATA'!D:F,3,FALSE),"")
G369: =_xlfn.IFNA(VLOOKUP(F369,'MASTER DATA'!D:F,2,FALSE),"") | H369: =_xlfn.IFNA(VLOOKUP(F369,'MASTER DATA'!D:F,3,FALSE),"")
G370: =_xlfn.IFNA(VLOOKUP(F370,'MASTER DATA'!D:F,2,FALSE),"") | H370: =_xlfn.IFNA(VLOOKUP(F370,'MASTER DATA'!D:F,3,FALSE),"")
G371: =_xlfn.IFNA(VLOOKUP(F371,'MASTER DATA'!D:F,2,FALSE),"") | H371: =_xlfn.IFNA(VLOOKUP(F371,'MASTER DATA'!D:F,3,FALSE),"")
G372: =_xlfn.IFNA(VLOOKUP(F372,'MASTER DATA'!D:F,2,FALSE),"") | H372: =_xlfn.IFNA(VLOOKUP(F372,'MASTER DATA'!D:F,3,FALSE),"")
G373: =_xlfn.IFNA(VLOOKUP(F373,'MASTER DATA'!D:F,2,FALSE),"") | H373: =_xlfn.IFNA(VLOOKUP(F373,'MASTER DATA'!D:F,3,FALSE),"")
G374: =_xlfn.IFNA(VLOOKUP(F374,'MASTER DATA'!D:F,2,FALSE),"") | H374: =_xlfn.IFNA(VLOOKUP(F374,'MASTER DATA'!D:F,3,FALSE),"")
G375: =_xlfn.IFNA(VLOOKUP(F375,'MASTER DATA'!D:F,2,FALSE),"") | H375: =_xlfn.IFNA(VLOOKUP(F375,'MASTER DATA'!D:F,3,FALSE),"")
G376: =_xlfn.IFNA(VLOOKUP(F376,'MASTER DATA'!D:F,2,FALSE),"") | H376: =_xlfn.IFNA(VLOOKUP(F376,'MASTER DATA'!D:F,3,FALSE),"")
G377: =_xlfn.IFNA(VLOOKUP(F377,'MASTER DATA'!D:F,2,FALSE),"") | H377: =_xlfn.IFNA(VLOOKUP(F377,'MASTER DATA'!D:F,3,FALSE),"")
G378: =_xlfn.IFNA(VLOOKUP(F378,'MASTER DATA'!D:F,2,FALSE),"") | H378: =_xlfn.IFNA(VLOOKUP(F378,'MASTER DATA'!D:F,3,FALSE),"")
G379: =_xlfn.IFNA(VLOOKUP(F379,'MASTER DATA'!D:F,2,FALSE),"") | H379: =_xlfn.IFNA(VLOOKUP(F379,'MASTER DATA'!D:F,3,FALSE),"")
... G1534: =_xlfn.IFNA(VLOOKUP(F1534,'MASTER DATA'!D:F,2,FALSE),"") | H1534: =_xlfn.IFNA(VLOOKUP(F1534,'MASTER DATA'!D:F,3,FALSE),"")

Sheet Proses Tahunan
A3: Sum of Nominal | B3: Column Labels
B4: 2024 | C4: 2024 Total
A5: Row Labels | B5: Pengeluaran
A6: Anak | B6: 38485098 | C6: 38485098
A7: Bank | B7: 37973569 | C7: 37973569
A8: Bill & Utilitas | B8: 31278748 | C8: 31278748
A9: Donasi | B9: 2559709 | C9: 2559709
A10: Entertainment | B10: 13117900 | C10: 13117900
A11: Gym | B11: 24760473 | C11: 24760473
A12: Hewan Peliharaan | B12: 20878929 | C12: 20878929
A13: Kado | B13: 20073339 | C13: 20073339
A14: Makan | B14: 45314583 | C14: 45314583
A15: Motor & Mobil | B15: 25163209 | C15: 25163209
A16: Personal Care | B16: 27612961 | C16: 27612961
A17: Rumah | B17: 34935568 | C17: 34935568
... A19: Transportasi | B19: 27788824 | C19: 27788824
A27: Sum of Nominal | B27: Column Labels
A28: Row Labels | B28: 2024
A29: Pengeluaran | B29: 395566197
A30: Penghasilan | B30: 74930017
A35: Sum of Nominal | B35: Column Labels
A36: Row Labels | B36: Pengeluaran | C36: Penghasilan
A37: 2024 | B37: 395566197 | C37: 74930017
A38: Januari | B38: 30634062 | C38: 9925481
A39: Februari | B39: 37227839 | C39: 6686335
A40: Maret | B40: 28050446 | C40: 5493443
A41: April | B41: 38509709 | C41: 6021665
A42: Mei | B42: 31372748 | C42: 2766381
A43: Juni | B43: 28890521 | C43: 7011467
A44: Juli | B44: 30593961 | C44: 5162211
A45: Agustus | B45: 34081682 | C45: 6981436
A46: September | B46: 40798633 | C46: 2582546
A47: Oktober | B47: 34610133 | C47: 6836486
A48: November | B48: 29039628 | C48: 11170378
A49: Desember | B49: 31756835 | C49: 4292188

Sheet DASHBOARD Bulanan
A1: Bulan | B1: Mei | D1: Tahun | E1: 2024
A3: Kategori Utama | B3: Aktual | D3: Tipe Transaksi | E3: Aktual
A4: Kantor | B4: =SUMIFS('INPUT Transaksi'!E:E,'INPUT Transaksi'!B:B,'DASHBOARD Bulanan'!$B$1,'INPUT Transaksi'!C:C,'DASHBOARD Bulanan'!$E$1,'INPUT Transaksi'!G:G,'DASHBOARD Bulanan'!A4) -> 0 | D4: Penghasilan | E4: =SUMIFS('INPUT Transaksi'!E:E,'INPUT Transaksi'!B:B,'DASHBOARD Bulanan'!$B$1,'INPUT Transaksi'!C:C,'DASHBOARD Bulanan'!$E$1,'INPUT Transaksi'!H:H,'DASHBOARD Bulanan'!D4) -> 2766381
A5: Bisnis | B5: =SUMIFS('INPUT Transaksi'!E:E,'INPUT Transaksi'!B:B,'DASHBOARD Bulanan'!$B$1,'INPUT Transaksi'!C:C,'DASHBOARD Bulanan'!$E$1,'INPUT Transaksi'!G:G,'DASHBOARD Bulanan'!A5) -> 1367839 | D5: Pengeluaran | E5: =SUMIFS('INPUT Transaksi'!E:E,'INPUT Transaksi'!B:B,'DASHBOARD Bulanan'!$B$1,'INPUT Transaksi'!C:C,'DASHBOARD Bulanan'!$E$1,'INPUT Transaksi'!H:H,'DASHBOARD Bulanan'!D5) -> 31372748
A6: Transportasi | B6: =SUMIFS('INPUT Transaksi'!E:E,'INPUT Transaksi'!B:B,'DASHBOARD Bulanan'!$B$1,'INPUT Transaksi'!C:C,'DASHBOARD Bulanan'!$E$1,'INPUT Transaksi'!G:G,'DASHBOARD Bulanan'!A6) -> 2799821
A7: Makan | B7: =SUMIFS('INPUT Transaksi'!E:E,'INPUT Transaksi'!B:B,'DASHBOARD Bulanan'!$B$1,'INPUT Transaksi'!C:C,'DASHBOARD Bulanan'!$E$1,'INPUT Transaksi'!G:G,'DASHBOARD Bulanan'!A7) -> 6840216
A8: Bill & Utilitas | B8: =SUMIFS('INPUT Transaksi'!E:E,'INPUT Transaksi'!B:B,'DASHBOARD Bulanan'!$B$1,'INPUT Transaksi'!C:C,'DASHBOARD Bulanan'!$E$1,'INPUT Transaksi'!G:G,'DASHBOARD Bulanan'!A8) -> 3364848 | D8: Metode Pembayaran | E8: Aktual
A9: Entertainment | B9: =SUMIFS('INPUT Transaksi'!E:E,'INPUT Transaksi'!B:B,'DASHBOARD Bulanan'!$B$1,'INPUT Transaksi'!C:C,'DASHBOARD Bulanan'!$E$1,'INPUT Transaksi'!G:G,'DASHBOARD Bulanan'!A9) -> 216878 | D9: Cash | E9: =SUMIFS('INPUT Transaksi'!E:E,'INPUT Transaksi'!B:B,'DASHBOARD Bulanan'!$B$1,'INPUT Transaksi'!C:C,'DASHBOARD Bulanan'!$E$1,'INPUT Transaksi'!I:I,'DASHBOARD Bulanan'!D9,'INPUT Transaksi'!H:H,"Pengeluaran") -> 10744774
A10: Personal Care | B10: =SUMIFS('INPUT Transaksi'!E:E,'INPUT Transaksi'!B:B,'DASHBOARD Bulanan'!$B$1,'INPUT Transaksi'!C:C,'DASHBOARD Bulanan'!$E$1,'INPUT Transaksi'!G:G,'DASHBOARD Bulanan'!A10) -> 0 | D10: BCA | E10: =SUMIFS('INPUT Transaksi'!E:E,'INPUT Transaksi'!B:B,'DASHBOARD Bulanan'!$B$1,'INPUT Transaksi'!C:C,'DASHBOARD Bulanan'!$E$1,'INPUT Transaksi'!I:I,'DASHBOARD Bulanan'!D10,'INPUT Transaksi'!H:H,"Pengeluaran") -> 6998068
A11: Rumah | B11: =SUMIFS('INPUT Transaksi'!E:E,'INPUT Transaksi'!B:B,'DASHBOARD Bulanan'!$B$1,'INPUT Transaksi'!C:C,'DASHBOARD Bulanan'!$E$1,'INPUT Transaksi'!G:G,'DASHBOARD Bulanan'!A11) -> 7788858 | D11: Mandiri | E11: =SUMIFS('INPUT Transaksi'!E:E,'INPUT Transaksi'!B:B,'DASHBOARD Bulanan'!$B$1,'INPUT Transaksi'!C:C,'DASHBOARD Bulanan'!$E$1,'INPUT Transaksi'!I:I,'DASHBOARD Bulanan'!D11,'INPUT Transaksi'!H:H,"Pengeluaran") -> 6351994
A12: Kado | B12: =SUMIFS('INPUT Transaksi'!E:E,'INPUT Transaksi'!B:B,'DASHBOARD Bulanan'!$B$1,'INPUT Transaksi'!C:C,'DASHBOARD Bulanan'!$E$1,'INPUT Transaksi'!G:G,'DASHBOARD Bulanan'!A12) -> 4458819 | D12: BNI | E12: =SUMIFS('INPUT Transaksi'!E:E,'INPUT Transaksi'!B:B,'DASHBOARD Bulanan'!$B$1,'INPUT Transaksi'!C:C,'DASHBOARD Bulanan'!$E$1,'INPUT Transaksi'!I:I,'DASHBOARD Bulanan'!D12,'INPUT Transaksi'!H:H,"Pengeluaran") -> 4471460
A13: Donasi | B13: =SUMIFS('INPUT Transaksi'!E:E,'INPUT Transaksi'!B:B,'DASHBOARD Bulanan'!$B$1,'INPUT Transaksi'!C:C,'DASHBOARD Bulanan'!$E$1,'INPUT Transaksi'!G:G,'DASHBOARD Bulanan'!A13) -> 0 | D13: BRI | E13: =SUMIFS('INPUT Transaksi'!E:E,'INPUT Transaksi'!B:B,'DASHBOARD Bulanan'!$B$1,'INPUT Transaksi'!C:C,'DASHBOARD Bulanan'!$E$1,'INPUT Transaksi'!I:I,'DASHBOARD Bulanan'!D13,'INPUT Transaksi'!H:H,"Pengeluaran") -> 2806452
A14: Self Development | B14: =SUMIFS('INPUT Transaksi'!E:E,'INPUT Transaksi'!B:B,'DASHBOARD Bulanan'!$B$1,'INPUT Transaksi'!C:C,'DASHBOARD Bulanan'!$E$1,'INPUT Transaksi'!G:G,'DASHBOARD Bulanan'!A14) -> 452465
A15: Anak | B15: =SUMIFS('INPUT Transaksi'!E:E,'INPUT Transaksi'!B:B,'DASHBOARD Bulanan'!$B$1,'INPUT Transaksi'!C:C,'DASHBOARD Bulanan'!$E$1,'INPUT Transaksi'!G:G,'DASHBOARD Bulanan'!A15) -> 0
A16: Hewan Peliharaan | B16: =SUMIFS('INPUT Transaksi'!E:E,'INPUT Transaksi'!B:B,'DASHBOARD Bulanan'!$B$1,'INPUT Transaksi'!C:C,'DASHBOARD Bulanan'!$E$1,'INPUT Transaksi'!G:G,'DASHBOARD Bulanan'!A16) -> 729459
A17: Gym | B17: =SUMIFS('INPUT Transaksi'!E:E,'INPUT Transaksi'!B:B,'DASHBOARD Bulanan'!$B$1,'INPUT Transaksi'!C:C,'DASHBOARD Bulanan'!$E$1,'INPUT Transaksi'!G:G,'DASHBOARD Bulanan'!A17) -> 2183113
A18: Motor & Mobil | B18: =SUMIFS('INPUT Transaksi'!E:E,'INPUT Transaksi'!B:B,'DASHBOARD Bulanan'!$B$1,'INPUT Transaksi'!C:C,'DASHBOARD Bulanan'!$E$1,'INPUT Transaksi'!G:G,'DASHBOARD Bulanan'!A18) -> 1077559
A19: Bank | B19: =SUMIFS('INPUT Transaksi'!E:E,'INPUT Transaksi'!B:B,'DASHBOARD Bulanan'!$B$1,'INPUT Transaksi'!C:C,'DASHBOARD Bulanan'!$E$1,'INPUT Transaksi'!G:G,'DASHBOARD Bulanan'!A19) -> 2859254

Sheet DASHBOARD TAHUNAN
E6: =IFERROR(GETPIVOTDATA("Nominal",'Proses Tahunan'!$A$27,"Tahun",2024,"Tipe Transaksi","Penghasilan"),0) -> 74930017 | M6: =GETPIVOTDATA("Nominal",'Proses Tahunan'!$A$27,"Tahun",2024,"Tipe Transaksi","Pengeluaran") -> 395566197 | U6: =(E6-M6)/E6 -> -4.279142
